BEGIN:VCALENDAR
VERSION:2.0
PRODID:-//Wende Museum - ECPv6.15.20//NONSGML v1.0//EN
CALSCALE:GREGORIAN
METHOD:PUBLISH
X-WR-CALNAME:Wende Museum
X-ORIGINAL-URL:https://wendemuseum.org
X-WR-CALDESC:Events for Wende Museum
REFRESH-INTERVAL;VALUE=DURATION:PT1H
X-Robots-Tag:noindex
X-PUBLISHED-TTL:PT1H
BEGIN:VTIMEZONE
TZID:America/Los_Angeles
BEGIN:DAYLIGHT
TZOFFSETFROM:-0800
TZOFFSETTO:-0700
TZNAME:PDT
DTSTART:20240310T100000
END:DAYLIGHT
BEGIN:STANDARD
TZOFFSETFROM:-0700
TZOFFSETTO:-0800
TZNAME:PST
DTSTART:20241103T090000
END:STANDARD
BEGIN:DAYLIGHT
TZOFFSETFROM:-0800
TZOFFSETTO:-0700
TZNAME:PDT
DTSTART:20250309T100000
END:DAYLIGHT
BEGIN:STANDARD
TZOFFSETFROM:-0700
TZOFFSETTO:-0800
TZNAME:PST
DTSTART:20251102T090000
END:STANDARD
BEGIN:DAYLIGHT
TZOFFSETFROM:-0800
TZOFFSETTO:-0700
TZNAME:PDT
DTSTART:20260308T100000
END:DAYLIGHT
BEGIN:STANDARD
TZOFFSETFROM:-0700
TZOFFSETTO:-0800
TZNAME:PST
DTSTART:20261101T090000
END:STANDARD
END:VTIMEZONE
BEGIN:VEVENT
DTSTART;TZID=America/Los_Angeles:20250728T180000
DTEND;TZID=America/Los_Angeles:20250728T203000
DTSTAMP:20260421T192519
CREATED:20250620T212241Z
LAST-MODIFIED:20260223T031434Z
UID:10000125-1753725600-1753734600@wendemuseum.org
SUMMARY:Blooming Threads: Soviet Flower Symbolism In Cross Stitch
DESCRIPTION:Join us for a vibrant workshop with Folk Lounge\, exploring the rich tradition of floral cross stitch in Soviet and Russian culture.\n\n\nJoin us for a vibrant workshop with Folk Lounge\, to explore the rich tradition of floral cross stitch in Soviet and Russian culture\, focusing particularly on roses and flowers as symbols of transformation and potential. \nDrawing inspiration from beloved Soviet animations like “Alenkiy Tsvetochek” (The Scarlet Flower\, the Russian Beauty and the Beast) and “Tsvetik-Semitsvetik” (The Flower with Seven Petals)\, we’ll explore how flowers symbolized human potential and the fulfillment of deepest wishes. \nThrough hands-on cross stitch techniques\, participants will create their own floral embroidery pieces while discussing how these natural symbols transcend cultural boundaries yet carry specific cultural meanings about transformation and becoming. \nThe workshop connects these traditional patterns to contemporary life\, demonstrating how the simple act of stitching can become a meditative practice for nurturing our own growth and honoring our wishes for beauty in the world. \nTeacher Bio: \nBorn in Vladivostok\, Russia\, Shagoh is of Armenian and Russian heritage and has traveled the West Coast from Seattle to Los Angeles. \nWith a background in luxury fashion\, wearables\, and human-computer interaction\, she is a seasoned multidisciplinary design leader\, blending creativity and innovation with global teams. \nHer artistry spans textile arts\, leatherwork\, painting\, and illustration\, grounded in her MFA in Human-Computer Interaction (California College of the Arts) and a Fashion Design degree (Oregon State University). \nA trained facilitator\, she is passionate about fostering community\, collaboration\, healing\, and shared learning. As the founder of Folk Lounge\, Shagoh is dedicated to uniting people through the exploration of ornamentation and sacred symbolism across cultures. \nEnter the garden gate off of the parking lot adjacent to the Wende museum on Culver Blvd.
URL:https://wendemuseum.org/event/blooming-threads-soviet-flower-symbolism-in-cross-stitch/
LOCATION:Glorya Kaufman Community Center at the Wende Museum\, 10858 Culver Boulevard\, Culver City\, CA\, 90230\, United States
CATEGORIES:Workshop
ATTACH;FMTTYPE=image/jpeg:https://wendemuseum.org/wp-content/uploads/2025/06/823171ef625b38675b11e63f5bea84c9-WitpbG.tmp_.jpg
END:VEVENT
END:VCALENDAR