BEGIN:VCALENDAR
VERSION:2.0
PRODID:-//Wende Museum - ECPv6.15.20//NONSGML v1.0//EN
CALSCALE:GREGORIAN
METHOD:PUBLISH
X-ORIGINAL-URL:https://wendemuseum.org
X-WR-CALDESC:Events for Wende Museum
REFRESH-INTERVAL;VALUE=DURATION:PT1H
X-Robots-Tag:noindex
X-PUBLISHED-TTL:PT1H
BEGIN:VTIMEZONE
TZID:America/Los_Angeles
BEGIN:DAYLIGHT
TZOFFSETFROM:-0800
TZOFFSETTO:-0700
TZNAME:PDT
DTSTART:20240310T100000
END:DAYLIGHT
BEGIN:STANDARD
TZOFFSETFROM:-0700
TZOFFSETTO:-0800
TZNAME:PST
DTSTART:20241103T090000
END:STANDARD
BEGIN:DAYLIGHT
TZOFFSETFROM:-0800
TZOFFSETTO:-0700
TZNAME:PDT
DTSTART:20250309T100000
END:DAYLIGHT
BEGIN:STANDARD
TZOFFSETFROM:-0700
TZOFFSETTO:-0800
TZNAME:PST
DTSTART:20251102T090000
END:STANDARD
BEGIN:DAYLIGHT
TZOFFSETFROM:-0800
TZOFFSETTO:-0700
TZNAME:PDT
DTSTART:20260308T100000
END:DAYLIGHT
BEGIN:STANDARD
TZOFFSETFROM:-0700
TZOFFSETTO:-0800
TZNAME:PST
DTSTART:20261101T090000
END:STANDARD
END:VTIMEZONE
BEGIN:VEVENT
DTSTART;TZID=America/Los_Angeles:20250730T090000
DTEND;TZID=America/Los_Angeles:20250730T100000
DTSTAMP:20260422T003010
CREATED:20250707T191108Z
LAST-MODIFIED:20250725T170226Z
UID:10000162-1753866000-1753869600@wendemuseum.org
SUMMARY:Sound Baths with Shea Cunningham
DESCRIPTION:Take a pause and reconnect with your body\, breath\, and mind through a restorative sound bath led by Shea Cunningham\, a longtime yoga instructor\, sound healer\, and local sustainability leader. \nEach session begins with 15 to 20 minutes of gentle breathwork and grounding movement to help prepare the body to fully absorb the resonant tones of crystal bowls and other therapeutic instruments. The sound bath that follows supports the nervous system\, reduces anxiety\, and restores a sense of calm and balance. \nPlease bring a yoga mat and pillow if you plan to lie down. A limited number of meditation cushions will be available. The stage will be reserved for those who wish to recline\, first come first serve. Chairs are also available for those who prefer or require a seated option. \nAbout the Facilitator \nShea Cunningham has taught yoga since 2004 and has been offering sound baths to the community for the past year. She is also a climate resilience expert and the founder of Balanced Approach\, where she leads the Culver City Sustainable Business Certification Program. Her work reflects a deep commitment to both personal well-being and community sustainability.
URL:https://wendemuseum.org/event/sound-baths-with-shea-cunningham-5/
LOCATION:Glorya Kaufman Community Center at the Wende Museum\, 10858 Culver Boulevard\, Culver City\, CA\, 90230\, United States
CATEGORIES:Wellness
ATTACH;FMTTYPE=image/png:https://wendemuseum.org/wp-content/uploads/2025/07/sound-bath.png
END:VEVENT
END:VCALENDAR