BEGIN:VCALENDAR
VERSION:2.0
PRODID:-//Wende Museum - ECPv6.15.20//NONSGML v1.0//EN
CALSCALE:GREGORIAN
METHOD:PUBLISH
X-ORIGINAL-URL:https://wendemuseum.org
X-WR-CALDESC:Events for Wende Museum
REFRESH-INTERVAL;VALUE=DURATION:PT1H
X-Robots-Tag:noindex
X-PUBLISHED-TTL:PT1H
BEGIN:VTIMEZONE
TZID:America/Los_Angeles
BEGIN:DAYLIGHT
TZOFFSETFROM:-0800
TZOFFSETTO:-0700
TZNAME:PDT
DTSTART:20240310T100000
END:DAYLIGHT
BEGIN:STANDARD
TZOFFSETFROM:-0700
TZOFFSETTO:-0800
TZNAME:PST
DTSTART:20241103T090000
END:STANDARD
BEGIN:DAYLIGHT
TZOFFSETFROM:-0800
TZOFFSETTO:-0700
TZNAME:PDT
DTSTART:20250309T100000
END:DAYLIGHT
BEGIN:STANDARD
TZOFFSETFROM:-0700
TZOFFSETTO:-0800
TZNAME:PST
DTSTART:20251102T090000
END:STANDARD
BEGIN:DAYLIGHT
TZOFFSETFROM:-0800
TZOFFSETTO:-0700
TZNAME:PDT
DTSTART:20260308T100000
END:DAYLIGHT
BEGIN:STANDARD
TZOFFSETFROM:-0700
TZOFFSETTO:-0800
TZNAME:PST
DTSTART:20261101T090000
END:STANDARD
END:VTIMEZONE
BEGIN:VEVENT
DTSTART;TZID=America/Los_Angeles:20250814T173000
DTEND;TZID=America/Los_Angeles:20250814T190000
DTSTAMP:20260422T003038
CREATED:20250626T202343Z
LAST-MODIFIED:20260221T163622Z
UID:10000158-1755192600-1755198000@wendemuseum.org
SUMMARY:Afro-Contemporary Workshop with Bernard Brown/bbmoves & Defacto X
DESCRIPTION:Fast-paced and educational\, this Afro-Contemporary dance technique class will challenge participants to engage body\, mind\, and spirit\, learn movement phrases\, push beyond “technique\,” and to explore their own individual performance choices throughout. Focusing on breath\, alignment\, rhythm and articulation\, this contemporary movement experience will incorporate many influences including Africanist movement technologies\, postmodern aesthetics\, and modern & contemporary dance techniques with a distinct emphasis on the foundational Katherine Dunham technique. Class will have live DJ accompaniment by DeFacto X. \nBio: \nBernard Brown is an award-winning Los Angeles-based performer\, choreographer\, arts activist\, and educator who situates their work at the intersection of Blackness\, Queerness\, and belonging. With an extensive performing career\, Bernard now serves as Executive Artistic Director of Bernard Brown/bbmoves – a social justice dance company\, choreographing for stage\, specific sites\, film\, and opera presented globally. Brown has received invitations\, residencies and commissions from On The Boards (Seattle)\, The Getty Museum (Los Angeles)\, the Centre de Développement Chorégraphique la Termitière (Burkina Faso)\, Dance Italia (Italy)\, The Music Center (Los Angeles)\, The Roy and Edna Disney/CalArts Theater (Los Angeles)\, Dance Mission Theater (San Francisco)\, danceBox (Japan)\, Johns Hopkins University\, National Immigration Law Center\, California African American Museum\, among others. Brown conducts lectures\, workshops\, and master classes internationally\, namely in Korea\, Panama\, Israel\, Burkina Faso\, Canada\, Puerto Rico\, Malta\, and Brazil\, and across the US various educational institutions and community-centered organizations. A first-generation college graduate\, Brown earned his MFA from University of California\, Los Angeles and BFA from Purchase College. He is an Assistant Professor of Dance at UC San Diego\, a Certified Katherine Dunham Technique Instructor\, and a California Arts Council Established Artist Fellow. The Los Angeles Times has called him “…the incomparable Bernard Brown…” \nThis workshop will take place in the A-Frame Theater at the Glorya Kaufman Community Center. Please enter through the ADA-accessible garden gate entrance from the parking lot\, which will open approximately 30 minutes before the workshop begins. The gate will close 20 minutes after the program starts. We recommend wearing comfortable clothing you can move in. \nPhoto by David B. Arenas
URL:https://wendemuseum.org/event/bernard-brown-bbmoves-dance-workshop/
LOCATION:Glorya Kaufman Community Center at the Wende Museum\, 10858 Culver Boulevard\, Culver City\, CA\, 90230\, United States
CATEGORIES:Workshop
ATTACH;FMTTYPE=image/jpeg:https://wendemuseum.org/wp-content/uploads/2025/07/9e43612ef2aa415e97fce478d0e39cbb-Qkw6me.tmp_.jpg
END:VEVENT
END:VCALENDAR