BEGIN:VCALENDAR
VERSION:2.0
PRODID:-//Wende Museum - ECPv6.15.20//NONSGML v1.0//EN
CALSCALE:GREGORIAN
METHOD:PUBLISH
X-WR-CALNAME:Wende Museum
X-ORIGINAL-URL:https://wendemuseum.org
X-WR-CALDESC:Events for Wende Museum
REFRESH-INTERVAL;VALUE=DURATION:PT1H
X-Robots-Tag:noindex
X-PUBLISHED-TTL:PT1H
BEGIN:VTIMEZONE
TZID:America/Los_Angeles
BEGIN:DAYLIGHT
TZOFFSETFROM:-0800
TZOFFSETTO:-0700
TZNAME:PDT
DTSTART:20240310T100000
END:DAYLIGHT
BEGIN:STANDARD
TZOFFSETFROM:-0700
TZOFFSETTO:-0800
TZNAME:PST
DTSTART:20241103T090000
END:STANDARD
BEGIN:DAYLIGHT
TZOFFSETFROM:-0800
TZOFFSETTO:-0700
TZNAME:PDT
DTSTART:20250309T100000
END:DAYLIGHT
BEGIN:STANDARD
TZOFFSETFROM:-0700
TZOFFSETTO:-0800
TZNAME:PST
DTSTART:20251102T090000
END:STANDARD
BEGIN:DAYLIGHT
TZOFFSETFROM:-0800
TZOFFSETTO:-0700
TZNAME:PDT
DTSTART:20260308T100000
END:DAYLIGHT
BEGIN:STANDARD
TZOFFSETFROM:-0700
TZOFFSETTO:-0800
TZNAME:PST
DTSTART:20261101T090000
END:STANDARD
END:VTIMEZONE
BEGIN:VEVENT
DTSTART;TZID=America/Los_Angeles:20250815T190000
DTEND;TZID=America/Los_Angeles:20250815T210000
DTSTAMP:20260421T142443
CREATED:20250808T215253Z
LAST-MODIFIED:20250808T215406Z
UID:10000233-1755284400-1755291600@wendemuseum.org
SUMMARY:Like as the Hart\, a staged reading of a new play by Oliver Mayer with live Baroque music
DESCRIPTION:Lübeck\, Germany\, 1705: Without an invitation\, 20-year-old JS Bach walks several hundred kilometers to hear his idol Dieterich Buxtehude play. He ends up staying for four months. What happened during that time\, and how much (or little) did music take precedence? A new play about mentoring\, intended and otherwise\, and the sympathetic laws of inspiration\, coded deep in the music — played live by Artifex Consort. \nNo RSVP necessary.
URL:https://wendemuseum.org/event/like-as-the-hart/
LOCATION:The A-Frame Theater at the Glorya Kaufman Community Center\, 10858 Culver Blvd\, Culver City\, 90230\, United States
CATEGORIES:Community Partner
ATTACH;FMTTYPE=image/png:https://wendemuseum.org/wp-content/uploads/2025/08/bachevent.png
END:VEVENT
END:VCALENDAR