BEGIN:VCALENDAR
VERSION:2.0
PRODID:-//Wende Museum - ECPv6.15.20//NONSGML v1.0//EN
CALSCALE:GREGORIAN
METHOD:PUBLISH
X-ORIGINAL-URL:https://wendemuseum.org
X-WR-CALDESC:Events for Wende Museum
REFRESH-INTERVAL;VALUE=DURATION:PT1H
X-Robots-Tag:noindex
X-PUBLISHED-TTL:PT1H
BEGIN:VTIMEZONE
TZID:America/Los_Angeles
BEGIN:DAYLIGHT
TZOFFSETFROM:-0800
TZOFFSETTO:-0700
TZNAME:PDT
DTSTART:20240310T100000
END:DAYLIGHT
BEGIN:STANDARD
TZOFFSETFROM:-0700
TZOFFSETTO:-0800
TZNAME:PST
DTSTART:20241103T090000
END:STANDARD
BEGIN:DAYLIGHT
TZOFFSETFROM:-0800
TZOFFSETTO:-0700
TZNAME:PDT
DTSTART:20250309T100000
END:DAYLIGHT
BEGIN:STANDARD
TZOFFSETFROM:-0700
TZOFFSETTO:-0800
TZNAME:PST
DTSTART:20251102T090000
END:STANDARD
BEGIN:DAYLIGHT
TZOFFSETFROM:-0800
TZOFFSETTO:-0700
TZNAME:PDT
DTSTART:20260308T100000
END:DAYLIGHT
BEGIN:STANDARD
TZOFFSETFROM:-0700
TZOFFSETTO:-0800
TZNAME:PST
DTSTART:20261101T090000
END:STANDARD
END:VTIMEZONE
BEGIN:VEVENT
DTSTART;TZID=America/Los_Angeles:20250828T190000
DTEND;TZID=America/Los_Angeles:20250828T220000
DTSTAMP:20260421T211030
CREATED:20250822T205451Z
LAST-MODIFIED:20250822T211515Z
UID:10000243-1756407600-1756418400@wendemuseum.org
SUMMARY:Play Reading of THE DREAMERS - "Resurrection City" By Christina Harley
DESCRIPTION:In Honor of Dr. King’s Historic March On Washington\, the Wende Museum will host a SPECIAL READING of THE DREAMERS – “Resurrection City” at the Glorya Kaufman Community Center on Thursday\, August 28\, 2025 at 7pm.
URL:https://wendemuseum.org/event/play-reading-of-the-dreamers-resurrection-city-by-christina-harley/
CATEGORIES:Community Partner
ATTACH;FMTTYPE=image/jpeg:https://wendemuseum.org/wp-content/uploads/2025/08/Dreamers-flyer-.1.jpeg
END:VEVENT
END:VCALENDAR