BEGIN:VCALENDAR
VERSION:2.0
PRODID:-//Wende Museum - ECPv6.15.17//NONSGML v1.0//EN
CALSCALE:GREGORIAN
METHOD:PUBLISH
X-ORIGINAL-URL:https://wendemuseum.org
X-WR-CALDESC:Events for Wende Museum
REFRESH-INTERVAL;VALUE=DURATION:PT1H
X-Robots-Tag:noindex
X-PUBLISHED-TTL:PT1H
BEGIN:VTIMEZONE
TZID:America/Los_Angeles
BEGIN:DAYLIGHT
TZOFFSETFROM:-0800
TZOFFSETTO:-0700
TZNAME:PDT
DTSTART:20250309T100000
END:DAYLIGHT
BEGIN:STANDARD
TZOFFSETFROM:-0700
TZOFFSETTO:-0800
TZNAME:PST
DTSTART:20251102T090000
END:STANDARD
BEGIN:DAYLIGHT
TZOFFSETFROM:-0800
TZOFFSETTO:-0700
TZNAME:PDT
DTSTART:20260308T100000
END:DAYLIGHT
BEGIN:STANDARD
TZOFFSETFROM:-0700
TZOFFSETTO:-0800
TZNAME:PST
DTSTART:20261101T090000
END:STANDARD
BEGIN:DAYLIGHT
TZOFFSETFROM:-0800
TZOFFSETTO:-0700
TZNAME:PDT
DTSTART:20270314T100000
END:DAYLIGHT
BEGIN:STANDARD
TZOFFSETFROM:-0700
TZOFFSETTO:-0800
TZNAME:PST
DTSTART:20271107T090000
END:STANDARD
END:VTIMEZONE
BEGIN:VEVENT
DTSTART;TZID=America/Los_Angeles:20260419T160000
DTEND;TZID=America/Los_Angeles:20260419T170000
DTSTAMP:20260419T225721
CREATED:20260305T204757Z
LAST-MODIFIED:20260305T205021Z
UID:10001363-1776614400-1776618000@wendemuseum.org
SUMMARY:S.U.T@LA – Vipassana Meditation Practice Group
DESCRIPTION:Practice Isn’t Just on the Cushion — It’s Wherever Life Takes Us \nOur practice is inspired by the teachings of Sayadaw U Tejaniya (S.U.T)\, which invite us to bring wise awareness into every part of life. Mindfulness isn’t just for the cushion — it’s for the small\, ordinary moments that make up our days. \nSome weeks\, we’ll sit together in silence at the Wende Museum. Other times\, practice might take us outdoors for a gentle hike\, to a public event\, on a mindful shopping trip\, or even online via Zoom. Wherever we are\, the essence of practice remains the same: staying present\, open\, and kind. \nThis new L.A.-based sangha is rooted in curiosity\, ease\, and Dharma friendship. Together\, we’ll explore how to live with awareness and discover what unfolds when we meet life just as it is. We warmly invite you to join us — to sit\, to walk\, to laugh\, and to grow together on this path of practice. \nPlease note we are holding Q&A session from 5PM. Q&A sessions are for continuing students only. Please contact me if you are interested in joining.
URL:https://wendemuseum.org/event/s-u-tla-vipassana-meditation-practice-group-6/2026-04-19/
CATEGORIES:Community Partner,Wellness
ATTACH;FMTTYPE=image/png:https://wendemuseum.org/wp-content/uploads/2025/08/meditation.png
END:VEVENT
BEGIN:VEVENT
DTSTART;TZID=America/Los_Angeles:20260421T183000
DTEND;TZID=America/Los_Angeles:20260421T193000
DTSTAMP:20260419T225721
CREATED:20260121T222525Z
LAST-MODIFIED:20260305T011144Z
UID:10000839-1776796200-1776799800@wendemuseum.org
SUMMARY:Living with Loss: A Grief Support Circle
DESCRIPTION:Join a warm and understanding space where you can share\, listen\, and heal. Led by Dr. Barry Goldstein\, this grief support circle is all about connecting with others who get what you’re going through. Come as you are\, no judgments—just open hearts and support to navigate the ups and downs of loss side by side. Everyone is welcome!
URL:https://wendemuseum.org/event/living-with-loss-a-grief-support-circle/2026-04-21/
LOCATION:Glorya Kaufman Community Center at the Wende Museum\, 10858 Culver Boulevard\, Culver City\, CA\, 90230\, United States
CATEGORIES:Community Partner
ATTACH;FMTTYPE=image/png:https://wendemuseum.org/wp-content/uploads/2026/01/grief-16x9-1.png
END:VEVENT
BEGIN:VEVENT
DTSTART;TZID=America/Los_Angeles:20260421T190000
DTEND;TZID=America/Los_Angeles:20260421T203000
DTSTAMP:20260419T225721
CREATED:20260313T001205Z
LAST-MODIFIED:20260408T185329Z
UID:10001422-1776798000-1776803400@wendemuseum.org
SUMMARY:Tuesday Men's Club
DESCRIPTION:Tuesday Men’s Club is a gathering for men to sit in meditation\, have an honest conversation\, and enjoy each other’s company. Men of all ages (our group ranges from 27 to 82) gather after work every other Tuesday. Some nights we talk about integrity\, grief\, or what it means to show up. Other nights it’s managing screen time\, coaching Little League\, parenting teenagers\, staying in shape\, or dealing with tennis elbows. \nThe format is simple: we introduce ourselves\, we meditate\, we talk\, and then we eat ice cream. \nWe meet the 1st and 3rd Tuesdays of each month at 7pm at the Wende Museum. No experience with meditation or group work is required. Drop-ins are welcome. \nMore at tuesdaymensclub.com
URL:https://wendemuseum.org/event/tuesday-mens-club/2026-04-21/
LOCATION:Glorya Kaufman Community Center at the Wende Museum\, 10858 Culver Boulevard\, Culver City\, CA\, 90230\, United States
CATEGORIES:Community Partner,Wellness
ATTACH;FMTTYPE=image/jpeg:https://wendemuseum.org/wp-content/uploads/2026/03/flyer_desktop_3.jpeg
END:VEVENT
BEGIN:VEVENT
DTSTART;TZID=America/Los_Angeles:20260426T140000
DTEND;TZID=America/Los_Angeles:20260426T173000
DTSTAMP:20260419T225721
CREATED:20260113T210623Z
LAST-MODIFIED:20260325T012917Z
UID:10000705-1777212000-1777224600@wendemuseum.org
SUMMARY:All-American Story: Stories and Conversations About Immigration
DESCRIPTION:All-American Story: Stories and Conversations About Immigration foregrounds lived experience at a moment when immigration discourse is flattened by rhetoric\, bringing immigrants and first- and second-generation Americans together to share stories and songs that insist on their complexity\, specificity\, and humanity. \nFrom 2 p.m. to 3 p.m. you’ll hear true stories and music created and performed by American immigrants and 1st- and 2nd-gen Americans from around the world. \nFollowing the readings\, performers will lead a conversation about immigration\, and afterwards we’ll meet in the garden for refreshments–and conversations will continue. \nThose interested will meet back in the theater from 4:30 p.m. to 5:30 p.m. for a workshop where professional writers\, editors and composers will help you learn how to share your own stories.
URL:https://wendemuseum.org/event/all-american-story-stories-and-conversations-about-immigration/
LOCATION:Glorya Kaufman Community Center at the Wende Museum\, 10858 Culver Boulevard\, Culver City\, CA\, 90230\, United States
CATEGORIES:Community Partner
ATTACH;FMTTYPE=image/jpeg:https://wendemuseum.org/wp-content/uploads/2026/01/all-american-logo-16-9-1.jpg
END:VEVENT
BEGIN:VEVENT
DTSTART;TZID=America/Los_Angeles:20260426T160000
DTEND;TZID=America/Los_Angeles:20260426T170000
DTSTAMP:20260419T225721
CREATED:20260305T204757Z
LAST-MODIFIED:20260305T205021Z
UID:10001364-1777219200-1777222800@wendemuseum.org
SUMMARY:S.U.T@LA – Vipassana Meditation Practice Group
DESCRIPTION:Practice Isn’t Just on the Cushion — It’s Wherever Life Takes Us \nOur practice is inspired by the teachings of Sayadaw U Tejaniya (S.U.T)\, which invite us to bring wise awareness into every part of life. Mindfulness isn’t just for the cushion — it’s for the small\, ordinary moments that make up our days. \nSome weeks\, we’ll sit together in silence at the Wende Museum. Other times\, practice might take us outdoors for a gentle hike\, to a public event\, on a mindful shopping trip\, or even online via Zoom. Wherever we are\, the essence of practice remains the same: staying present\, open\, and kind. \nThis new L.A.-based sangha is rooted in curiosity\, ease\, and Dharma friendship. Together\, we’ll explore how to live with awareness and discover what unfolds when we meet life just as it is. We warmly invite you to join us — to sit\, to walk\, to laugh\, and to grow together on this path of practice. \nPlease note we are holding Q&A session from 5PM. Q&A sessions are for continuing students only. Please contact me if you are interested in joining.
URL:https://wendemuseum.org/event/s-u-tla-vipassana-meditation-practice-group-6/2026-04-26/
CATEGORIES:Community Partner,Wellness
ATTACH;FMTTYPE=image/png:https://wendemuseum.org/wp-content/uploads/2025/08/meditation.png
END:VEVENT
END:VCALENDAR