BEGIN:VCALENDAR
VERSION:2.0
PRODID:-//Wende Museum - ECPv6.15.20//NONSGML v1.0//EN
CALSCALE:GREGORIAN
METHOD:PUBLISH
X-WR-CALNAME:Wende Museum
X-ORIGINAL-URL:https://wendemuseum.org
X-WR-CALDESC:Events for Wende Museum
REFRESH-INTERVAL;VALUE=DURATION:PT1H
X-Robots-Tag:noindex
X-PUBLISHED-TTL:PT1H
BEGIN:VTIMEZONE
TZID:America/Los_Angeles
BEGIN:DAYLIGHT
TZOFFSETFROM:-0800
TZOFFSETTO:-0700
TZNAME:PDT
DTSTART:20240310T100000
END:DAYLIGHT
BEGIN:STANDARD
TZOFFSETFROM:-0700
TZOFFSETTO:-0800
TZNAME:PST
DTSTART:20241103T090000
END:STANDARD
BEGIN:DAYLIGHT
TZOFFSETFROM:-0800
TZOFFSETTO:-0700
TZNAME:PDT
DTSTART:20250309T100000
END:DAYLIGHT
BEGIN:STANDARD
TZOFFSETFROM:-0700
TZOFFSETTO:-0800
TZNAME:PST
DTSTART:20251102T090000
END:STANDARD
BEGIN:DAYLIGHT
TZOFFSETFROM:-0800
TZOFFSETTO:-0700
TZNAME:PDT
DTSTART:20260308T100000
END:DAYLIGHT
BEGIN:STANDARD
TZOFFSETFROM:-0700
TZOFFSETTO:-0800
TZNAME:PST
DTSTART:20261101T090000
END:STANDARD
END:VTIMEZONE
BEGIN:VEVENT
DTSTART;TZID=America/Los_Angeles:20250927T103000
DTEND;TZID=America/Los_Angeles:20250927T110000
DTSTAMP:20260422T210156
CREATED:20250926T003001Z
LAST-MODIFIED:20250926T204131Z
UID:10000318-1758969000-1758970800@wendemuseum.org
SUMMARY:Tales in Two Tongues: Bilingual Russian-English Story Time
DESCRIPTION:Join us at the Wende Museum for a special bilingual children’s storytime\, featuring captivating Russian tales from the Wende’s collection of Soviet Books. Hosted by Archives Assistant Anya Ponomareva\, stories will be presented in both English and Russian\, offering a fun and engaging experience for young listeners of all backgrounds. Perfect for children aged 4-8 and their families\, this event celebrates culture and language through the joy of storytelling!
URL:https://wendemuseum.org/event/tales-in-two-tongues-bilingual-russian-english-story-time/
LOCATION:The Wende Museum\, 10808 Culver Boulevard\, Culver City\, CA\, 90230\, United States
CATEGORIES:Family
ATTACH;FMTTYPE=image/jpeg:https://wendemuseum.org/wp-content/uploads/2025/09/storytime.jpg
END:VEVENT
BEGIN:VEVENT
DTSTART;TZID=America/Los_Angeles:20250928T120000
DTEND;TZID=America/Los_Angeles:20250928T150000
DTSTAMP:20260422T210156
CREATED:20250917T214536Z
LAST-MODIFIED:20250922T202524Z
UID:10000288-1759060800-1759071600@wendemuseum.org
SUMMARY:Family Day: Postcards Connecting Communities
DESCRIPTION:In the Cold War\, shortwave radio operators used QSL cards as a form of identity. These postcards often featured art from the operator’s homeland. This Family Day\, we’re taking inspiration from QSL cards! You and your family can decorate your own postcard to represent your community. What special places or landmarks would you include? What other things visually represent your city or neighborhood? \nAdditionally\, W6TRW Amateur Radio Club (Redondo Beach) and W6UE Caltech Amateur Radio Club (CITARC) will be demonstrating radio equipment and explaining how amateur radio supports communication\, science\, and emergency response.
URL:https://wendemuseum.org/event/family-day-postcards-connecting-communities/
LOCATION:The Wende Museum\, 10808 Culver Boulevard\, Culver City\, CA\, 90230\, United States
CATEGORIES:Family,Workshop
ATTACH;FMTTYPE=image/png:https://wendemuseum.org/wp-content/uploads/2025/09/postcard-16x9-1.png
END:VEVENT
END:VCALENDAR