BEGIN:VCALENDAR
VERSION:2.0
PRODID:-//Wende Museum - ECPv6.15.20//NONSGML v1.0//EN
CALSCALE:GREGORIAN
METHOD:PUBLISH
X-ORIGINAL-URL:https://wendemuseum.org
X-WR-CALDESC:Events for Wende Museum
REFRESH-INTERVAL;VALUE=DURATION:PT1H
X-Robots-Tag:noindex
X-PUBLISHED-TTL:PT1H
BEGIN:VTIMEZONE
TZID:America/Los_Angeles
BEGIN:DAYLIGHT
TZOFFSETFROM:-0800
TZOFFSETTO:-0700
TZNAME:PDT
DTSTART:20240310T100000
END:DAYLIGHT
BEGIN:STANDARD
TZOFFSETFROM:-0700
TZOFFSETTO:-0800
TZNAME:PST
DTSTART:20241103T090000
END:STANDARD
BEGIN:DAYLIGHT
TZOFFSETFROM:-0800
TZOFFSETTO:-0700
TZNAME:PDT
DTSTART:20250309T100000
END:DAYLIGHT
BEGIN:STANDARD
TZOFFSETFROM:-0700
TZOFFSETTO:-0800
TZNAME:PST
DTSTART:20251102T090000
END:STANDARD
BEGIN:DAYLIGHT
TZOFFSETFROM:-0800
TZOFFSETTO:-0700
TZNAME:PDT
DTSTART:20260308T100000
END:DAYLIGHT
BEGIN:STANDARD
TZOFFSETFROM:-0700
TZOFFSETTO:-0800
TZNAME:PST
DTSTART:20261101T090000
END:STANDARD
END:VTIMEZONE
BEGIN:VEVENT
DTSTART;TZID=America/Los_Angeles:20251102T130000
DTEND;TZID=America/Los_Angeles:20251102T143000
DTSTAMP:20260425T065856
CREATED:20250915T225505Z
LAST-MODIFIED:20251024T185603Z
UID:10000278-1762088400-1762093800@wendemuseum.org
SUMMARY:Illustrating Children's Books with Stephanie Lunkewitz
DESCRIPTION:Join us at the Wende for a fun series of workshops led by children’s book illustrator and author\, Stephanie Lunkewitz! This program is perfect for children aged 10 and up\, families\, and anyone interested in storytelling through art. \nSchedule \nSun\, Oct 26 | 1 p.m.\nSession 1: Introduction and History of Children’s Books \nSun\, Nov 2 | 1 p.m.\nSession 2: Life Studio – Drawing from Nature \nSun\, Nov 9 | 1 p.m.\nSession 3: From Observation into Imagination \nSun\, Dec 7 | 1 p.m.\nSession 4: Techniques in Illustration \nSun\, Dec 14 | 1 p.m.\nSession 5: Character Design \nSun\, Jan 18 | 1 p.m.\nSession 6: Words and Pictures \nSun\, Jan 25 | 1 p.m.\nSession 7: Storyboarding \nSun\, Feb 1 | 1 p.m.\nSession 8: Making Dummies and Book Covers \nAbout Stephanie Lunkewitz\nStephanie Lunkewitz\, a German-American illustrator and author\, was born into an intellectual family in East Germany and came to the West at age 12 the night after the Berlin Wall fell. Her mother\, director of the Bauhaus library in Dessau\, and her grandparents\, prolific children’s book illustrators\, shaped her creative path. Stephanie studied textile design and art history in Germany and Italy\, and built a career that includes award-winning work in silk weaving\, real estate redevelopment\, and children’s literature. She has published three illustrated books and is currently on tour with Holocaust survivor Eva Szepesi\, whose story she adapted for young readers. \nIn 2025\, a firestorm in Pacific Palisades destroyed her family home\, studio\, and much of her art archive\, but key works were saved and will be exhibited. A member of SCBWI and board director at the German Academy for Children’s Literature\, she divides her time between Frankfurt and Los Angeles\, where she runs a real estate company\, supports arts institutions like the Wende Museum\, and continues to explore her family’s history\, including her grandfather’s role in the 1953 uprising on Stalin Allee. \nADA access to the Glorya Kaufman Community Center is available through the garden gate from the parking lot; this gate will be opened approximately 30 minutes before the program.
URL:https://wendemuseum.org/event/illustrating-childrens-books-with-stephanie-lunkewitz-3/
LOCATION:Glorya Kaufman Community Center at the Wende Museum\, 10858 Culver Boulevard\, Culver City\, CA\, 90230\, United States
CATEGORIES:Family,Workshop
ATTACH;FMTTYPE=image/jpeg:https://wendemuseum.org/wp-content/uploads/2025/09/439d4bedfbb0ad21894bbad26e0ba5f3-sdzNrh.tmp_-e1757976723322.jpg
END:VEVENT
END:VCALENDAR