BEGIN:VCALENDAR
VERSION:2.0
PRODID:-//Wende Museum - ECPv6.15.20//NONSGML v1.0//EN
CALSCALE:GREGORIAN
METHOD:PUBLISH
X-WR-CALNAME:Wende Museum
X-ORIGINAL-URL:https://wendemuseum.org
X-WR-CALDESC:Events for Wende Museum
REFRESH-INTERVAL;VALUE=DURATION:PT1H
X-Robots-Tag:noindex
X-PUBLISHED-TTL:PT1H
BEGIN:VTIMEZONE
TZID:America/Los_Angeles
BEGIN:DAYLIGHT
TZOFFSETFROM:-0800
TZOFFSETTO:-0700
TZNAME:PDT
DTSTART:20240310T100000
END:DAYLIGHT
BEGIN:STANDARD
TZOFFSETFROM:-0700
TZOFFSETTO:-0800
TZNAME:PST
DTSTART:20241103T090000
END:STANDARD
BEGIN:DAYLIGHT
TZOFFSETFROM:-0800
TZOFFSETTO:-0700
TZNAME:PDT
DTSTART:20250309T100000
END:DAYLIGHT
BEGIN:STANDARD
TZOFFSETFROM:-0700
TZOFFSETTO:-0800
TZNAME:PST
DTSTART:20251102T090000
END:STANDARD
BEGIN:DAYLIGHT
TZOFFSETFROM:-0800
TZOFFSETTO:-0700
TZNAME:PDT
DTSTART:20260308T100000
END:DAYLIGHT
BEGIN:STANDARD
TZOFFSETFROM:-0700
TZOFFSETTO:-0800
TZNAME:PST
DTSTART:20261101T090000
END:STANDARD
END:VTIMEZONE
BEGIN:VEVENT
DTSTART;TZID=America/Los_Angeles:20251206T103000
DTEND;TZID=America/Los_Angeles:20251206T110000
DTSTAMP:20260425T122221
CREATED:20251124T193423Z
LAST-MODIFIED:20251124T193423Z
UID:10000505-1765017000-1765018800@wendemuseum.org
SUMMARY:Tales in Two Tongues: Bilingual Russian-English Story Time
DESCRIPTION:Join us at the Wende Museum for a special bilingual children’s storytime\, featuring captivating Russian-language songs\, rhymes and tales. Hosted by Archives Assistant Anya Ponomareva\, stories will be presented in both English and Russian\, offering a fun and engaging experience for young listeners of all backgrounds. Perfect for children aged 3-7 and their families\, this event celebrates culture and language through the joy of storytelling!
URL:https://wendemuseum.org/event/tales-in-two-tongues-bilingual-russian-english-story-time-3/
LOCATION:Glorya Kaufman Community Center at the Wende Museum\, 10858 Culver Boulevard\, Culver City\, CA\, 90230\, United States
CATEGORIES:Family
ATTACH;FMTTYPE=image/png:https://wendemuseum.org/wp-content/uploads/2025/10/russian-fairytales-16x9-1.png
END:VEVENT
END:VCALENDAR