BEGIN:VCALENDAR
VERSION:2.0
PRODID:-//Wende Museum - ECPv6.15.17//NONSGML v1.0//EN
CALSCALE:GREGORIAN
METHOD:PUBLISH
X-WR-CALNAME:Wende Museum
X-ORIGINAL-URL:https://wendemuseum.org
X-WR-CALDESC:Events for Wende Museum
REFRESH-INTERVAL;VALUE=DURATION:PT1H
X-Robots-Tag:noindex
X-PUBLISHED-TTL:PT1H
BEGIN:VTIMEZONE
TZID:America/Los_Angeles
BEGIN:DAYLIGHT
TZOFFSETFROM:-0800
TZOFFSETTO:-0700
TZNAME:PDT
DTSTART:20250309T100000
END:DAYLIGHT
BEGIN:STANDARD
TZOFFSETFROM:-0700
TZOFFSETTO:-0800
TZNAME:PST
DTSTART:20251102T090000
END:STANDARD
BEGIN:DAYLIGHT
TZOFFSETFROM:-0800
TZOFFSETTO:-0700
TZNAME:PDT
DTSTART:20260308T100000
END:DAYLIGHT
BEGIN:STANDARD
TZOFFSETFROM:-0700
TZOFFSETTO:-0800
TZNAME:PST
DTSTART:20261101T090000
END:STANDARD
BEGIN:DAYLIGHT
TZOFFSETFROM:-0800
TZOFFSETTO:-0700
TZNAME:PDT
DTSTART:20270314T100000
END:DAYLIGHT
BEGIN:STANDARD
TZOFFSETFROM:-0700
TZOFFSETTO:-0800
TZNAME:PST
DTSTART:20271107T090000
END:STANDARD
END:VTIMEZONE
BEGIN:VEVENT
DTSTART;TZID=America/Los_Angeles:20260228T190000
DTEND;TZID=America/Los_Angeles:20260228T220000
DTSTAMP:20260419T075209
CREATED:20260205T214050Z
LAST-MODIFIED:20260221T163402Z
UID:10000781-1772305200-1772316000@wendemuseum.org
SUMMARY:A Special Evening with Jason Sinay - Full Band Performance
DESCRIPTION:Join us for an intimate evening with Jason Sinay\, the award-winning Los Angeles–based singer-songwriter and guitarist\, performing with his band. \nSinay is a celebrated singer/songwriter/guitarist and former long-time guitarist for Heartbreaker Mike Campbell’s band The Dirty Knobs. He has spent decades on the road playing and recording with artists including Keith Richards\, Neil Young\, Bob Weir\, Jackson Browne\, and Lucinda Williams. \nThe performance will weave together his songs with personal stories drawn from a life spent in rock music.
URL:https://wendemuseum.org/event/a-special-evening-with-jason-sinay-full-band-performance/
LOCATION:Glorya Kaufman Community Center at the Wende Museum\, 10858 Culver Boulevard\, Culver City\, CA\, 90230\, United States
CATEGORIES:Music
ATTACH;FMTTYPE=image/png:https://wendemuseum.org/wp-content/uploads/2026/02/Jason-Sinay-Invite_Revised-16x9-1-scaled.png
END:VEVENT
END:VCALENDAR