BEGIN:VCALENDAR
VERSION:2.0
PRODID:-//Wende Museum - ECPv6.15.20//NONSGML v1.0//EN
CALSCALE:GREGORIAN
METHOD:PUBLISH
X-ORIGINAL-URL:https://wendemuseum.org
X-WR-CALDESC:Events for Wende Museum
REFRESH-INTERVAL;VALUE=DURATION:PT1H
X-Robots-Tag:noindex
X-PUBLISHED-TTL:PT1H
BEGIN:VTIMEZONE
TZID:America/Los_Angeles
BEGIN:DAYLIGHT
TZOFFSETFROM:-0800
TZOFFSETTO:-0700
TZNAME:PDT
DTSTART:20250309T100000
END:DAYLIGHT
BEGIN:STANDARD
TZOFFSETFROM:-0700
TZOFFSETTO:-0800
TZNAME:PST
DTSTART:20251102T090000
END:STANDARD
BEGIN:DAYLIGHT
TZOFFSETFROM:-0800
TZOFFSETTO:-0700
TZNAME:PDT
DTSTART:20260308T100000
END:DAYLIGHT
BEGIN:STANDARD
TZOFFSETFROM:-0700
TZOFFSETTO:-0800
TZNAME:PST
DTSTART:20261101T090000
END:STANDARD
BEGIN:DAYLIGHT
TZOFFSETFROM:-0800
TZOFFSETTO:-0700
TZNAME:PDT
DTSTART:20270314T100000
END:DAYLIGHT
BEGIN:STANDARD
TZOFFSETFROM:-0700
TZOFFSETTO:-0800
TZNAME:PST
DTSTART:20271107T090000
END:STANDARD
END:VTIMEZONE
BEGIN:VEVENT
DTSTART;TZID=America/Los_Angeles:20260308T140000
DTEND;TZID=America/Los_Angeles:20260308T160000
DTSTAMP:20260423T104610
CREATED:20260213T224804Z
LAST-MODIFIED:20260214T001916Z
UID:10000794-1772978400-1772985600@wendemuseum.org
SUMMARY:Two-Piano Concert with Vivian Fan and Eloise Kim
DESCRIPTION:Pianists Vivian Fan and Eloise Kim present an evening of music for two pianos that moves from cosmic intensity to lyrical intimacy to Latin American rhythm. The program opens with Holst’s Mars\, the Bringer of War from The Planets\, followed by Arvo Pärt’s meditative Hymn to a Great City and Chopin’s virtuosic Rondo in C Major. \nAfter intermission\, Debussy’s En bateau from Petite Suite evokes the gentle motion of water\, leading into the warmth and folk-inspired lyricism of Guastavino’s Tres Romances and Bailecito. The concert concludes with Piazzolla’s Adiós Nonino\, a powerful tango elegy that transforms personal grief into a universal expression of remembrance. \nThe program will be followed by a complimentary reception. \nVivian Fan is Director of Collaborative Piano at the Colburn Conservatory. An accomplished chamber musician and recording artist\, she has performed at Walt Disney Concert Hall and collaborated with leading instrumentalists worldwide\, with appearances broadcast on major television and radio programs. \nEloise Kim is a faculty member at the Colburn Conservatory and an active soloist and collaborative pianist. Praised for her poetic phrasing and lyrical playing\, she has appeared with orchestras across the United States and performs regularly at major festivals and concert venues. \nSpecial thanks to the Victor family for their generous support. \nSeating is first come\, first served. An RSVP does not guarantee entry. Late admission is not permitted once the program begins.
URL:https://wendemuseum.org/event/twopianos/
LOCATION:Glorya Kaufman Community Center at the Wende Museum\, 10858 Culver Boulevard\, Culver City\, CA\, 90230\, United States
CATEGORIES:Music
ATTACH;FMTTYPE=image/png:https://wendemuseum.org/wp-content/uploads/2026/02/two-piano-16x9-1.png
END:VEVENT
END:VCALENDAR