BEGIN:VCALENDAR
VERSION:2.0
PRODID:-//Wende Museum - ECPv6.15.20//NONSGML v1.0//EN
CALSCALE:GREGORIAN
METHOD:PUBLISH
X-WR-CALNAME:Wende Museum
X-ORIGINAL-URL:https://wendemuseum.org
X-WR-CALDESC:Events for Wende Museum
REFRESH-INTERVAL;VALUE=DURATION:PT1H
X-Robots-Tag:noindex
X-PUBLISHED-TTL:PT1H
BEGIN:VTIMEZONE
TZID:America/Los_Angeles
BEGIN:DAYLIGHT
TZOFFSETFROM:-0800
TZOFFSETTO:-0700
TZNAME:PDT
DTSTART:20250309T100000
END:DAYLIGHT
BEGIN:STANDARD
TZOFFSETFROM:-0700
TZOFFSETTO:-0800
TZNAME:PST
DTSTART:20251102T090000
END:STANDARD
BEGIN:DAYLIGHT
TZOFFSETFROM:-0800
TZOFFSETTO:-0700
TZNAME:PDT
DTSTART:20260308T100000
END:DAYLIGHT
BEGIN:STANDARD
TZOFFSETFROM:-0700
TZOFFSETTO:-0800
TZNAME:PST
DTSTART:20261101T090000
END:STANDARD
BEGIN:DAYLIGHT
TZOFFSETFROM:-0800
TZOFFSETTO:-0700
TZNAME:PDT
DTSTART:20270314T100000
END:DAYLIGHT
BEGIN:STANDARD
TZOFFSETFROM:-0700
TZOFFSETTO:-0800
TZNAME:PST
DTSTART:20271107T090000
END:STANDARD
END:VTIMEZONE
BEGIN:VEVENT
DTSTART;TZID=America/Los_Angeles:20260505T190000
DTEND;TZID=America/Los_Angeles:20260505T210000
DTSTAMP:20260423T165724
CREATED:20260417T005335Z
LAST-MODIFIED:20260417T005335Z
UID:10001452-1778007600-1778014800@wendemuseum.org
SUMMARY:Legacy in Harmony: Emad Zolfaghari and Vivian Fan in Concert
DESCRIPTION:Violist Emad Zolfaghari and pianist Vivian Fan present an evening of music for viola and piano centered on the work of York Bowen\, tracing a path from late Romantic intensity to lyrical reflection and formal innovation. The program opens with Bowen’s Viola Sonata No. 1 in C minor\, Op. 18 (1905)\, moving between expressive lyricism and virtuosic drive across its three movements\, before continuing after intermission with the Phantasy in F Major\, Op. 54 (1918)\, a single-movement work that blends structural invention with a rich\, singing line for the viola. \nThe program will be followed by a complimentary reception. \nEmad Zolfaghari came to international attention after winning first prize and the audience prize at the 2024 Primrose International Viola Competition. A graduate of the Curtis Institute of Music\, he will attend the Juilliard School in fall 2026 as a Kovner Fellow. His honors include top prizes at the Klein\, ArsClassica\, Morningside Music Bridge\, Johansen\, Tokyo\, and OSM international competitions\, as well as the Salon de Virtuosi Career Grant and the Nobuko Imai Förderpreis at the Kronberg Academy. He has appeared as a soloist with major orchestras including the Tokyo Philharmonic\, Montreal Symphony\, and Toronto Symphony Orchestra\, and performs regularly at leading festivals. \nVivian Fan is Director of Collaborative Piano at the Colburn Conservatory of Music. An accomplished chamber musician and recording artist\, she has performed at Walt Disney Concert Hall as part of the Los Angeles Philharmonic’s Brahms Unbound series and recorded extensively\, with releases on Bridge Records and Soundset Records. She has served as an accompanist at major international competitions and festivals\, and her performances have been broadcast on television and radio including KTLA\, KNBC\, KUSC\, and Performance Today. \nAs the museum will be closed during this program\, please enter through the garden side gate\, which will open 30 minutes before the start time. Theater doors open 15 minutes before the start time. Seating is first come\, first served. An RSVP does not guarantee admission once capacity is reached. No late entry.
URL:https://wendemuseum.org/event/legacy-in-harmony-emad-zolfaghari-and-vivian-fan-in-concert/
LOCATION:Glorya Kaufman Community Center at the Wende Museum\, 10858 Culver Boulevard\, Culver City\, CA\, 90230\, United States
CATEGORIES:Music
ATTACH;FMTTYPE=image/png:https://wendemuseum.org/wp-content/uploads/2026/04/legacy-may-5-16x9-1.png
END:VEVENT
END:VCALENDAR