BEGIN:VCALENDAR
VERSION:2.0
PRODID:-//Wende Museum - ECPv6.15.20//NONSGML v1.0//EN
CALSCALE:GREGORIAN
METHOD:PUBLISH
X-WR-CALNAME:Wende Museum
X-ORIGINAL-URL:https://wendemuseum.org
X-WR-CALDESC:Events for Wende Museum
REFRESH-INTERVAL;VALUE=DURATION:PT1H
X-Robots-Tag:noindex
X-PUBLISHED-TTL:PT1H
BEGIN:VTIMEZONE
TZID:America/Los_Angeles
BEGIN:DAYLIGHT
TZOFFSETFROM:-0800
TZOFFSETTO:-0700
TZNAME:PDT
DTSTART:20250309T100000
END:DAYLIGHT
BEGIN:STANDARD
TZOFFSETFROM:-0700
TZOFFSETTO:-0800
TZNAME:PST
DTSTART:20251102T090000
END:STANDARD
BEGIN:DAYLIGHT
TZOFFSETFROM:-0800
TZOFFSETTO:-0700
TZNAME:PDT
DTSTART:20260308T100000
END:DAYLIGHT
BEGIN:STANDARD
TZOFFSETFROM:-0700
TZOFFSETTO:-0800
TZNAME:PST
DTSTART:20261101T090000
END:STANDARD
BEGIN:DAYLIGHT
TZOFFSETFROM:-0800
TZOFFSETTO:-0700
TZNAME:PDT
DTSTART:20270314T100000
END:DAYLIGHT
BEGIN:STANDARD
TZOFFSETFROM:-0700
TZOFFSETTO:-0800
TZNAME:PST
DTSTART:20271107T090000
END:STANDARD
END:VTIMEZONE
BEGIN:VEVENT
DTSTART;TZID=America/Los_Angeles:20260206T190000
DTEND;TZID=America/Los_Angeles:20260206T213000
DTSTAMP:20260423T224926
CREATED:20260123T215049Z
LAST-MODIFIED:20260205T023657Z
UID:10000715-1770404400-1770413400@wendemuseum.org
SUMMARY:Tiananmen Tonight: Journalism and Courage
DESCRIPTION:A free screening of the new documentary about the Tiananmen Square student demonstrations in Beijing. This is a story of American journalism and the telling of truth in service to democracy. Tiananmen Tonight reveals the powerful human drama of a network television news team battling for life and reputation while courageously reporting the extraordinary student uprising in 1989 that brought the Chinese nation to the brink of democratic reform. The film tracks the entire 7 week period of the occupation and is considered to be the high point in television broadcast journalism. \nFollowing the screening\, there will be a discussion with Bestor Cram and Michael Streissguth\, the filmmakers\, and Dr. Chaohua Wang\, Professor of Asian Languages and Cultures at UCLA.
URL:https://wendemuseum.org/event/tiananmen-tonight-journalism-and-courage/
LOCATION:Glorya Kaufman Community Center at the Wende Museum\, 10858 Culver Boulevard\, Culver City\, CA\, 90230\, United States
CATEGORIES:Community Partner,Screening
ATTACH;FMTTYPE=image/jpeg:https://wendemuseum.org/wp-content/uploads/2026/01/488654991_4047429722195680_6794586802156028896_n-2.jpg
END:VEVENT
END:VCALENDAR