BEGIN:VCALENDAR
VERSION:2.0
PRODID:-//Wende Museum - ECPv6.15.20//NONSGML v1.0//EN
CALSCALE:GREGORIAN
METHOD:PUBLISH
X-ORIGINAL-URL:https://wendemuseum.org
X-WR-CALDESC:Events for Wende Museum
REFRESH-INTERVAL;VALUE=DURATION:PT1H
X-Robots-Tag:noindex
X-PUBLISHED-TTL:PT1H
BEGIN:VTIMEZONE
TZID:America/Los_Angeles
BEGIN:DAYLIGHT
TZOFFSETFROM:-0800
TZOFFSETTO:-0700
TZNAME:PDT
DTSTART:20240310T100000
END:DAYLIGHT
BEGIN:STANDARD
TZOFFSETFROM:-0700
TZOFFSETTO:-0800
TZNAME:PST
DTSTART:20241103T090000
END:STANDARD
BEGIN:DAYLIGHT
TZOFFSETFROM:-0800
TZOFFSETTO:-0700
TZNAME:PDT
DTSTART:20250309T100000
END:DAYLIGHT
BEGIN:STANDARD
TZOFFSETFROM:-0700
TZOFFSETTO:-0800
TZNAME:PST
DTSTART:20251102T090000
END:STANDARD
BEGIN:DAYLIGHT
TZOFFSETFROM:-0800
TZOFFSETTO:-0700
TZNAME:PDT
DTSTART:20260308T100000
END:DAYLIGHT
BEGIN:STANDARD
TZOFFSETFROM:-0700
TZOFFSETTO:-0800
TZNAME:PST
DTSTART:20261101T090000
END:STANDARD
END:VTIMEZONE
BEGIN:VEVENT
DTSTART;TZID=America/Los_Angeles:20251214T150000
DTEND;TZID=America/Los_Angeles:20251214T180000
DTSTAMP:20260422T154436
CREATED:20251210T030022Z
LAST-MODIFIED:20251210T030123Z
UID:10000515-1765724400-1765735200@wendemuseum.org
SUMMARY:Tea Dances at the Glorya Kaufman Community Center: Swing Dancing
DESCRIPTION:The Wende Museum’s Tea Dance series invites you to move\, mingle\, and unwind through the joyful rhythm of social dance. Hosted in the Glorya Kaufman Community Center\, each session features different dance traditions\, ranging from Argentine tango to vintage swing\, led by local artists and dance instructors. No experience or partner required. \nThis session will include a lesson with LA Swing Dance Posse\, followed by a performance by Beach Cities Swing Band. \nTea dances originated in early 20th-century Britain and America as daytime socials\, often held in hotels and ballrooms\, offering live music\, light refreshments\, and a welcoming space for community connection. Revived in the queer communities of mid-century America\, the tradition evolved into a vibrant celebration of expression and belonging. \nIn that spirit\, our Sunday Tea Dances offer a space to unplug\, connect\, and move together. These afternoons are for everyone: curious beginners\, practiced dancers\, and people just looking to enjoy good music and warm company. \nCome for the class\, stay for the social\, and rediscover the art of togetherness. \nFree and open to all. Comfortable shoes are encouraged.
URL:https://wendemuseum.org/event/tea-dances-at-the-glorya-kaufman-community-center-swing-dancing/
LOCATION:Glorya Kaufman Community Center at the Wende Museum\, 10858 Culver Boulevard\, Culver City\, CA\, 90230\, United States
CATEGORIES:Social
ATTACH;FMTTYPE=image/jpeg:https://wendemuseum.org/wp-content/uploads/2025/06/5a8eba27275b116340020852586f7144-EyyGxG.tmp_.jpg
END:VEVENT
END:VCALENDAR