BEGIN:VCALENDAR
VERSION:2.0
PRODID:-//Wende Museum - ECPv6.15.20//NONSGML v1.0//EN
CALSCALE:GREGORIAN
METHOD:PUBLISH
X-ORIGINAL-URL:https://wendemuseum.org
X-WR-CALDESC:Events for Wende Museum
REFRESH-INTERVAL;VALUE=DURATION:PT1H
X-Robots-Tag:noindex
X-PUBLISHED-TTL:PT1H
BEGIN:VTIMEZONE
TZID:America/Los_Angeles
BEGIN:DAYLIGHT
TZOFFSETFROM:-0800
TZOFFSETTO:-0700
TZNAME:PDT
DTSTART:20240310T100000
END:DAYLIGHT
BEGIN:STANDARD
TZOFFSETFROM:-0700
TZOFFSETTO:-0800
TZNAME:PST
DTSTART:20241103T090000
END:STANDARD
BEGIN:DAYLIGHT
TZOFFSETFROM:-0800
TZOFFSETTO:-0700
TZNAME:PDT
DTSTART:20250309T100000
END:DAYLIGHT
BEGIN:STANDARD
TZOFFSETFROM:-0700
TZOFFSETTO:-0800
TZNAME:PST
DTSTART:20251102T090000
END:STANDARD
BEGIN:DAYLIGHT
TZOFFSETFROM:-0800
TZOFFSETTO:-0700
TZNAME:PDT
DTSTART:20260308T100000
END:DAYLIGHT
BEGIN:STANDARD
TZOFFSETFROM:-0700
TZOFFSETTO:-0800
TZNAME:PST
DTSTART:20261101T090000
END:STANDARD
END:VTIMEZONE
BEGIN:VEVENT
DTSTART;TZID=America/Los_Angeles:20250803T150000
DTEND;TZID=America/Los_Angeles:20250803T180000
DTSTAMP:20260425T172337
CREATED:20250621T001310Z
LAST-MODIFIED:20250723T200957Z
UID:10000120-1754233200-1754244000@wendemuseum.org
SUMMARY:Tea Dances at the Glorya Kaufman Community Center
DESCRIPTION:Move\, mingle\, and unwind through the joyful rhythm of social dance.\n\n\nThe Wende Museum’s Tea Dance series invites you to move\, mingle\, and unwind through the joyful rhythm of social dance. Hosted in the Glorya Kaufman Community Center\, each session features different dance traditions\, ranging from Argentine tango to vintage swing\, led by local artists and dance instructors. No experience or partner required. \nTea dances originated in early 20th-century Britain and America as daytime socials\, often held in hotels and ballrooms\, offering live music\, light refreshments\, and a welcoming space for community connection. Revived in the queer communities of mid-century America\, the tradition evolved into a vibrant celebration of expression and belonging. \nIn that spirit\, our Sunday Tea Dances offer a space to unplug\, connect\, and move together. These afternoons are for everyone: curious beginners\, practiced dancers\, and people just looking to enjoy good music and warm company. \nCome for the class\, stay for the social\, and rediscover the art of togetherness. \nFree and open to all. Comfortable shoes are encouraged. \nSchedule: \nSunday\, August 3\, 3-6 pm\, LA Swing Dance Posse with Beach Cities Swing Band \nLA Swing Dance Posse with Beach Cities Swing Band (LASDP) is a non profit organization formed to honor contributions African Americans have made to vernacular jazz dance through performance and education. They teach the history of those styles\, ranging from the 1800’s to the present. This gives them the opportunity to fill in knowledge gaps of Swing dance history\, a history that has deep roots in Black culture. Their mission is to educate\, preserve\, promote\, teach and perform the vernacular jazz dances such as Savoy Swing\, Charleston\, and Lindy Hop dance. \nThe Beach Cities Swing Band (BCSB)\, founded in 2000 by members of the El Segundo Concert Band\, is a 17-piece big band with featured vocalists\, performing classics made famous by Count Basie\, Glenn Miller\, Duke Ellington\, Benny Goodman\, Ella Fitzgerald\, and Artie Shaw\, as well as modern swing arrangements and fresh takes on beloved tunes. Now operating under the South Bay Music Association\, the BCSB is dedicated to keeping the big band tradition alive and thriving. True to its name\, the band has performed throughout the South Bay’s beach cities—including Manhattan Beach\, Hermosa Beach\, Redondo Beach\, Torrance\, Palos Verdes Estates\, Long Beach\, Marina Del Rey\, Los Angeles\, and its home base of El Segundo. \nSunday\, August 17\, 3-6 pm\, Oxygen Tango \nDiscover the global language of tango in this one-hour beginner class led by Oxygen Tango\, a beloved LA-based school known for its welcoming\, connection-driven approach. You’ll learn the essentials of this improvised social dance and be ready to join the informal practica that follows—no partner needed. Just bring comfortable clothes\, shoes you can walk backward in\, and a spirit of curiosity. \nSunday\, August 31\, 3-6 pm\, Groove and Step
URL:https://wendemuseum.org/event/tea-dances-at-the-wende-3/
LOCATION:Glorya Kaufman Community Center at the Wende Museum\, 10858 Culver Boulevard\, Culver City\, CA\, 90230\, United States
CATEGORIES:Social
ATTACH;FMTTYPE=image/jpeg:https://wendemuseum.org/wp-content/uploads/2025/06/5a8eba27275b116340020852586f7144-EyyGxG.tmp_.jpg
END:VEVENT
END:VCALENDAR