BEGIN:VCALENDAR
VERSION:2.0
PRODID:-//Wende Museum - ECPv6.15.20//NONSGML v1.0//EN
CALSCALE:GREGORIAN
METHOD:PUBLISH
X-ORIGINAL-URL:https://wendemuseum.org
X-WR-CALDESC:Events for Wende Museum
REFRESH-INTERVAL;VALUE=DURATION:PT1H
X-Robots-Tag:noindex
X-PUBLISHED-TTL:PT1H
BEGIN:VTIMEZONE
TZID:America/Los_Angeles
BEGIN:DAYLIGHT
TZOFFSETFROM:-0800
TZOFFSETTO:-0700
TZNAME:PDT
DTSTART:20250309T100000
END:DAYLIGHT
BEGIN:STANDARD
TZOFFSETFROM:-0700
TZOFFSETTO:-0800
TZNAME:PST
DTSTART:20251102T090000
END:STANDARD
BEGIN:DAYLIGHT
TZOFFSETFROM:-0800
TZOFFSETTO:-0700
TZNAME:PDT
DTSTART:20260308T100000
END:DAYLIGHT
BEGIN:STANDARD
TZOFFSETFROM:-0700
TZOFFSETTO:-0800
TZNAME:PST
DTSTART:20261101T090000
END:STANDARD
BEGIN:DAYLIGHT
TZOFFSETFROM:-0800
TZOFFSETTO:-0700
TZNAME:PDT
DTSTART:20270314T100000
END:DAYLIGHT
BEGIN:STANDARD
TZOFFSETFROM:-0700
TZOFFSETTO:-0800
TZNAME:PST
DTSTART:20271107T090000
END:STANDARD
END:VTIMEZONE
BEGIN:VEVENT
DTSTART;TZID=America/Los_Angeles:20260405T130000
DTEND;TZID=America/Los_Angeles:20260405T170000
DTSTAMP:20260425T165544
CREATED:20260218T213707Z
LAST-MODIFIED:20260224T011038Z
UID:10000816-1775394000-1775408400@wendemuseum.org
SUMMARY:Nawruz (Spring) Festival
DESCRIPTION:The Wende Museum is pleased to partner with the Aga Khan Museum and The Ismaili Council for the Western United States in organizing a fun-filled day of activities for the entire family at this celebration. \nThe festival of Nawruz coincides with the vernal equinox\, on the 20th of March — when the sun crosses the equator and equalizes day and night. In the Persian calendar\, this event marks the New Year\, and Nawruz\, the 21st of March\, is the ‘new day’ that marks the beginning of Spring. It is a day to offer gratitude for the bounties of life and to express renewed hope and optimism for the future. \nNawruz is celebrated by over three hundred million people in the Balkans\, the Caucasus\, Central and South Asia\, and by Iranians worldwide. It signals the transition from a dull and grey winter to a vibrant and colorful spring\, a promise of new life and abundance. It is also an opportunity to reflect on the delicate intertwining of nature and humanity\, one that sustains us and needs to be preserved. \nActivities include live musical and dance performances\, calligraphy workshop\, tile painting\, henna painting\, planting seeds\, button making\, creating greeting cards\, poetry recitations\, children’s egg painting\, and Persian tea and refreshments.
URL:https://wendemuseum.org/event/nawruz2026/
LOCATION:The Wende Museum\, 10808 Culver Boulevard\, Culver City\, CA\, 90230\, United States
CATEGORIES:Special Event
ATTACH;FMTTYPE=image/jpeg:https://wendemuseum.org/wp-content/uploads/2026/02/1_qir3RHRLYJdXM-j498wYUw@2x-e1771450085621.jpg
END:VEVENT
END:VCALENDAR