BEGIN:VCALENDAR
VERSION:2.0
PRODID:-//Wende Museum - ECPv6.15.20//NONSGML v1.0//EN
CALSCALE:GREGORIAN
METHOD:PUBLISH
X-WR-CALNAME:Wende Museum
X-ORIGINAL-URL:https://wendemuseum.org
X-WR-CALDESC:Events for Wende Museum
REFRESH-INTERVAL;VALUE=DURATION:PT1H
X-Robots-Tag:noindex
X-PUBLISHED-TTL:PT1H
BEGIN:VTIMEZONE
TZID:America/Los_Angeles
BEGIN:DAYLIGHT
TZOFFSETFROM:-0800
TZOFFSETTO:-0700
TZNAME:PDT
DTSTART:20250309T100000
END:DAYLIGHT
BEGIN:STANDARD
TZOFFSETFROM:-0700
TZOFFSETTO:-0800
TZNAME:PST
DTSTART:20251102T090000
END:STANDARD
BEGIN:DAYLIGHT
TZOFFSETFROM:-0800
TZOFFSETTO:-0700
TZNAME:PDT
DTSTART:20260308T100000
END:DAYLIGHT
BEGIN:STANDARD
TZOFFSETFROM:-0700
TZOFFSETTO:-0800
TZNAME:PST
DTSTART:20261101T090000
END:STANDARD
BEGIN:DAYLIGHT
TZOFFSETFROM:-0800
TZOFFSETTO:-0700
TZNAME:PDT
DTSTART:20270314T100000
END:DAYLIGHT
BEGIN:STANDARD
TZOFFSETFROM:-0700
TZOFFSETTO:-0800
TZNAME:PST
DTSTART:20271107T090000
END:STANDARD
END:VTIMEZONE
BEGIN:VEVENT
DTSTART;TZID=America/Los_Angeles:20260309T180000
DTEND;TZID=America/Los_Angeles:20260309T200000
DTSTAMP:20260424T210108
CREATED:20260107T230917Z
LAST-MODIFIED:20260303T162411Z
UID:10000693-1773079200-1773086400@wendemuseum.org
SUMMARY:Bauhaus | Interacting with Color: The Color Experiments of Josef Albers
DESCRIPTION:Exploring through hands-on engagement with color\, participants will experiment with ideas such as color relativity\, after-image\, and the illusion of transparency. Led by Albers Foundation Education Director Fritz Horstman\, and using the same materials that Josef Albers’s students used\, participants will learn to better see and articulate what they are seeing. No prior experience is required. \nThis workshop has reached capacity. If you would like to be added to the waitlist please email education@wendemuseum.org.  \n 
URL:https://wendemuseum.org/event/interacting-with-color-the-color-experiments-of-josef-albers/
LOCATION:CA
CATEGORIES:Workshop
ATTACH;FMTTYPE=image/png:https://wendemuseum.org/wp-content/uploads/2026/01/color-experiments-16x9-1.png
END:VEVENT
END:VCALENDAR