BEGIN:VCALENDAR
VERSION:2.0
PRODID:-//Wende Museum - ECPv6.15.20//NONSGML v1.0//EN
CALSCALE:GREGORIAN
METHOD:PUBLISH
X-ORIGINAL-URL:https://wendemuseum.org
X-WR-CALDESC:Events for Wende Museum
REFRESH-INTERVAL;VALUE=DURATION:PT1H
X-Robots-Tag:noindex
X-PUBLISHED-TTL:PT1H
BEGIN:VTIMEZONE
TZID:America/Los_Angeles
BEGIN:DAYLIGHT
TZOFFSETFROM:-0800
TZOFFSETTO:-0700
TZNAME:PDT
DTSTART:20250309T100000
END:DAYLIGHT
BEGIN:STANDARD
TZOFFSETFROM:-0700
TZOFFSETTO:-0800
TZNAME:PST
DTSTART:20251102T090000
END:STANDARD
BEGIN:DAYLIGHT
TZOFFSETFROM:-0800
TZOFFSETTO:-0700
TZNAME:PDT
DTSTART:20260308T100000
END:DAYLIGHT
BEGIN:STANDARD
TZOFFSETFROM:-0700
TZOFFSETTO:-0800
TZNAME:PST
DTSTART:20261101T090000
END:STANDARD
BEGIN:DAYLIGHT
TZOFFSETFROM:-0800
TZOFFSETTO:-0700
TZNAME:PDT
DTSTART:20270314T100000
END:DAYLIGHT
BEGIN:STANDARD
TZOFFSETFROM:-0700
TZOFFSETTO:-0800
TZNAME:PST
DTSTART:20271107T090000
END:STANDARD
END:VTIMEZONE
BEGIN:VEVENT
DTSTART;TZID=America/Los_Angeles:20260424T180000
DTEND;TZID=America/Los_Angeles:20260424T200000
DTSTAMP:20260423T174807
CREATED:20260406T204645Z
LAST-MODIFIED:20260406T204645Z
UID:10001448-1777053600-1777060800@wendemuseum.org
SUMMARY:Bauhaus | Contemporary Rug Weaving Workshop
DESCRIPTION:Learn how to make a knotted rug weaving with yarn and upcycled textiles! This workshop is inspired by the long history of rug making in many cultures\, specifically in the SWANA and Arab regions. Focusing on hand knotting techniques\, participants will play with different fibers\, color and texture to create a small rug and learn the basics of weaving. All levels of experience are welcome. Primary techniques include: modified larks head knotting\, plain weaving\, winding yarn balls\, and finishing a weaving. \nThis program is part of the Wende Bauhaus series\, in which local artists lead hands-on classes inspired by the Bauhaus school’s learning-by-doing philosophy and its spirit of experimentation\, play\, and discovery. \nAbout the teaching artist: Aneesa Shami Zizzo is a Los Angeles-based artist exploring shared memory through appliqued tapestries\, soft sculpture and paper collage. Using textile industry waste and secondhand materials\, she intertwines personal history\, Islamic folklore and the sublime to illustrate the cyclical nature of history and shed light on societal systems contributing to waste and neglect. Born to an American mother and a Palestinian-Lebanese father\, Zizzo often reflects on her Arab-American upbringing in post-9/11 suburban Kansas. By drawing from her childhood and personal experiences\, she is able to explore broader narratives of human experience and cultural memory in her practice. \nAs the museum will be closed during this program\, please enter through the garden side gate\, which will open 30 minutes before the start time. Doors open 15 minutes before the start time. Seating is first come\, first served. An RSVP does not guarantee admission once capacity is reached. No late entry.
URL:https://wendemuseum.org/event/bauhaus-rug-weaving/
LOCATION:Glorya Kaufman Community Center at the Wende Museum\, 10858 Culver Boulevard\, Culver City\, CA\, 90230\, United States
CATEGORIES:Workshop
ATTACH;FMTTYPE=image/png:https://wendemuseum.org/wp-content/uploads/2026/04/Screenshot-2026-03-26-at-12.40.41-PM.png
END:VEVENT
BEGIN:VEVENT
DTSTART;TZID=America/Los_Angeles:20260426T103000
DTEND;TZID=America/Los_Angeles:20260426T113000
DTSTAMP:20260423T174807
CREATED:20260325T212901Z
LAST-MODIFIED:20260325T213101Z
UID:10001352-1777199400-1777203000@wendemuseum.org
SUMMARY:Samizdat Sundays
DESCRIPTION:Join us for Samizdat Sundays—hands‑on textile workshops inspired by the spirit of creative resistance and DIY culture found in samizdat traditions. Each week offers a different project\, connecting archival stories of subversion with contemporary making. \nWe encourage participants to bring an item each week—a T‑shirt\, a pair of jeans\, or any textile you’re ready to transform\, repair\, or experiment with. \nEach session is free\, open to all skill levels\, and guided by artists who delight in subversion and play. Come for one or come for all—together we’ll stitch\, alter\, repair\, and imagine new forms of expression. \nSCHEDULE \nFINISH IT! CLINIC \nMarch 29\, 2026 \nToday we will finish up projects we’re working on\, whether they’re projects begun in Samizdat Sundays\, or other projects that have been lingering in your studio or drawer waiting to be finished. All of our materials will be available to you\, but you’re also invited to bring your own materials\, if your project requires them. If this is your first time coming to the workshop\, you are welcome to work on a past Samizdat Sunday project. Perhaps you’ll make a series of mail art collage postcards\, or perhaps you’ll sew a secret pocket or message into your favorite shirt. Let’s finish (or begin!) things together in the beautiful classroom at the Wende. \nMINI MOON BAG \nApril 5\, 2026 \nTo kick off a month of space exploration-related projects\, we will make mini moon bags modeled after the small pouches seen in the Wende’s Soviet Hippie Collection. Included in the collection is a tailor’s book\, with clippings\, drawings\, and written ideas for clothing modifications and accessories\, including small pouch-like bags. Your bag might hang around your neck\, or attach to your belt\, or be a separate little bag that is held in your purse. Or perhaps your bag is not a bag at all\, but rather a pocket attached to an existing garment that can be opened (or not). We use discarded materials for Samizdat Sundays that are added to and taken away from each week. If you have something special in mind\, please bring it! Otherwise\, be open to the surprises found in our stash of materials. \nAfter our workshop\, check out the Nawruz (Spring) Festival happening around the museum grounds beginning at 1 pm. There will be music\, dance\, crafts\, poetry\, and family activities to welcome spring and the Persian New Year. \nLETTERS TO OUTER SPACE \nApril 12\, 2026 \nThe has a wonderful collection of artifacts related to the mid-century explorations of outer space. The arms race of the Cold War extended to the skies\, as the Soviet Union and the United States raced each other to the moon. Many astronauts have commented on the profound experience of traveling to outer space and seeing our planet floating beside them. The celestial sphere we inhabit has long fascinated and entranced\, across cultures and across time. \nToday\, we will write a “letter” to outer space. This letter might be made of vintage magazines of the moon landing era\, or it might be made of fabric\, or perhaps it will be made of other materials. The idea for a “letter” came after I found a space-era magazine and a stack of oddly large letter envelopes. The envelopes are the proportion of a regular letter envelope but they’re extra large\, just like our universe! You’re invited to fill these envelopes with your dreams and messages to outer space. \nLETTERS TO PLANET EARTH \nApril 19\, 2026 \nAs we did last week\, we will once again make “letters\,” but this time for our home\, Earth. Your letter does not have to be on paper. It does not have to include words. A letter is a correspondence and messages come in many forms. Perhaps your letter is a direction for an action\, like Yoko Ono’s “MAILING PIECE II” from her seminal book\, Grapefruit: “Send the sound of one hundred suns rising at once\,” or perhaps your “letter” is an image or a texture that evokes a feeling. \nFINISH IT! CLINIC \nApril 26\, 2026 \nToday we will finish up projects we’re working on\, whether they’re projects begun in Samizdat Sundays\, or other projects that have been lingering in our studios or drawer swaiting to be finished. All of our materials will be available to you\, but you’re also invited to bring your own materials\, if your project requires them. If this is your first time coming to the workshop\, you are welcome to work on a past Samizdat Sunday project. Perhaps you’ll write a letter to outer space\, or perhaps you’ll sew a secret pocket or message into your favorite shirt. Let’s finish (or begin!) things together in the beautiful classroom at the Wende. \nRSVPs for this free program do not guarantee admission. Limited seating is available on a first come\, first served basis. \nAn ADA-accessible entrance to the Glorya Kaufman Community Center is available through the garden gate from the parking lot.
URL:https://wendemuseum.org/event/samizdat-sundays-2026-2-2/2026-04-26/
LOCATION:Glorya Kaufman Community Center at the Wende Museum\, 10858 Culver Boulevard\, Culver City\, CA\, 90230\, United States
CATEGORIES:Workshop
ATTACH;FMTTYPE=image/jpeg:https://wendemuseum.org/wp-content/uploads/2025/07/hippie-flag-16x9-1-scaled.jpg
END:VEVENT
BEGIN:VEVENT
DTSTART;TZID=America/Los_Angeles:20260429T101500
DTEND;TZID=America/Los_Angeles:20260429T111500
DTSTAMP:20260423T174807
CREATED:20260422T215104Z
LAST-MODIFIED:20260422T215209Z
UID:10001470-1777457700-1777461300@wendemuseum.org
SUMMARY:Soup O'Tha Day: Cantilever Collective Dance Workshop
DESCRIPTION:Step into the spontaneous spirit of Soup O’Tha Day\, a dance workshop series from Cantilever Collective that stirs up a nourishing mix of movement\, music\, and community. Each session is improvised\, ephemeral\, and open to all—no dance experience required. With live-mixed soundscapes\, playful prompts\, and space to move freely\, these workshops invite you to explore connection\, curiosity\, and joy through your own body’s language. \nOne day’s “special” will never be the same as the next. Come as you are. Move how you feel. \nWednesday morning sessions are presented as part of Wellness Wednesday! Come early to enjoy complimentary bread\, soup and coffee in our garden\, beginning at 10 a.m.\, or join at 9 a.m. to participate in mindfulness meditation.
URL:https://wendemuseum.org/event/soup-otha-day-cantilever-collective-dance-workshop-15/2026-04-29/
LOCATION:The Wende Museum\, 10808 Culver Boulevard\, Culver City\, CA\, 90230\, United States
CATEGORIES:Wellness,Workshop
ATTACH;FMTTYPE=image/webp:https://wendemuseum.org/wp-content/uploads/2026/04/image-2.webp
END:VEVENT
END:VCALENDAR