BEGIN:VCALENDAR
VERSION:2.0
PRODID:-//Wende Museum - ECPv6.15.20//NONSGML v1.0//EN
CALSCALE:GREGORIAN
METHOD:PUBLISH
X-WR-CALNAME:Wende Museum
X-ORIGINAL-URL:https://wendemuseum.org
X-WR-CALDESC:Events for Wende Museum
REFRESH-INTERVAL;VALUE=DURATION:PT1H
X-Robots-Tag:noindex
X-PUBLISHED-TTL:PT1H
BEGIN:VTIMEZONE
TZID:America/Los_Angeles
BEGIN:DAYLIGHT
TZOFFSETFROM:-0800
TZOFFSETTO:-0700
TZNAME:PDT
DTSTART:20220313T100000
END:DAYLIGHT
BEGIN:STANDARD
TZOFFSETFROM:-0700
TZOFFSETTO:-0800
TZNAME:PST
DTSTART:20221106T090000
END:STANDARD
BEGIN:DAYLIGHT
TZOFFSETFROM:-0800
TZOFFSETTO:-0700
TZNAME:PDT
DTSTART:20230312T100000
END:DAYLIGHT
BEGIN:STANDARD
TZOFFSETFROM:-0700
TZOFFSETTO:-0800
TZNAME:PST
DTSTART:20231105T090000
END:STANDARD
BEGIN:DAYLIGHT
TZOFFSETFROM:-0800
TZOFFSETTO:-0700
TZNAME:PDT
DTSTART:20240310T100000
END:DAYLIGHT
BEGIN:STANDARD
TZOFFSETFROM:-0700
TZOFFSETTO:-0800
TZNAME:PST
DTSTART:20241103T090000
END:STANDARD
END:VTIMEZONE
BEGIN:VEVENT
DTSTART;TZID=America/Los_Angeles:20230917T140000
DTEND;TZID=America/Los_Angeles:20230917T150000
DTSTAMP:20260425T065915
CREATED:20230719T045836Z
LAST-MODIFIED:20260225T010325Z
UID:10001249-1694959200-1694962800@wendemuseum.org
SUMMARY:Russia\, a Pariah Nation\, or an Emerging World Order? with Choi Chatterjee
DESCRIPTION:
URL:https://wendemuseum.org/event/chatterjee/
LOCATION:The Wende Museum\, 10808 Culver Boulevard\, Culver City\, CA\, 90230\, United States
END:VEVENT
BEGIN:VEVENT
DTSTART;TZID=America/Los_Angeles:20230909T110000
DTEND;TZID=America/Los_Angeles:20230909T110000
DTSTAMP:20260425T065915
CREATED:20230901T040649Z
LAST-MODIFIED:20260223T232718Z
UID:10001149-1694257200-1694257200@wendemuseum.org
SUMMARY:ICEA Chess @ the Wende - Tournament & Free Play
DESCRIPTION:
URL:https://wendemuseum.org/event/chesssept2023/
LOCATION:The Wende Museum\, 10808 Culver Boulevard\, Culver City\, CA\, 90230\, United States
END:VEVENT
BEGIN:VEVENT
DTSTART;TZID=America/Los_Angeles:20230903T140000
DTEND;TZID=America/Los_Angeles:20230903T150000
DTSTAMP:20260425T065915
CREATED:20230811T080143Z
LAST-MODIFIED:20260225T012536Z
UID:10001282-1693749600-1693753200@wendemuseum.org
SUMMARY:T.G.I.Freiheit with F&C
DESCRIPTION:
URL:https://wendemuseum.org/event/tgifreiheit/
LOCATION:The Wende Museum\, 10808 Culver Boulevard\, Culver City\, CA\, 90230\, United States
END:VEVENT
BEGIN:VEVENT
DTSTART;TZID=America/Los_Angeles:20230830T190000
DTEND;TZID=America/Los_Angeles:20230830T190000
DTSTAMP:20260425T065915
CREATED:20230729T061141Z
LAST-MODIFIED:20260221T165257Z
UID:10000946-1693422000-1693422000@wendemuseum.org
SUMMARY:Amerikatsi
DESCRIPTION:
URL:https://wendemuseum.org/event/amerikatsi/
LOCATION:The Wende Museum\, 10808 Culver Boulevard\, Culver City\, CA\, 90230\, United States
END:VEVENT
BEGIN:VEVENT
DTSTART;TZID=America/Los_Angeles:20230830T150000
DTEND;TZID=America/Los_Angeles:20230830T150000
DTSTAMP:20260425T065915
CREATED:20230829T005330Z
LAST-MODIFIED:20260223T030800Z
UID:10000952-1693407600-1693407600@wendemuseum.org
SUMMARY:Art in the Camp: Art by Vietnamese Refugees in Hong Kong Detention Camps – Interview with Evelyna Liang
DESCRIPTION:
URL:https://wendemuseum.org/event/artinthecamp/
LOCATION:The Wende Museum\, 10808 Culver Boulevard\, Culver City\, CA\, 90230\, United States
END:VEVENT
BEGIN:VEVENT
DTSTART;TZID=America/Los_Angeles:20230827T120000
DTEND;TZID=America/Los_Angeles:20230827T150000
DTSTAMP:20260425T065915
CREATED:20230822T034828Z
LAST-MODIFIED:20260223T181955Z
UID:10001050-1693137600-1693148400@wendemuseum.org
SUMMARY:Family Day: Alcohol Ink Painting
DESCRIPTION:
URL:https://wendemuseum.org/event/family-day-alcohol-ink/
LOCATION:The Wende Museum\, 10808 Culver Boulevard\, Culver City\, CA\, 90230\, United States
END:VEVENT
BEGIN:VEVENT
DTSTART;TZID=America/Los_Angeles:20230826T103000
DTEND;TZID=America/Los_Angeles:20230826T170000
DTSTAMP:20260425T065915
CREATED:20230801T125141Z
LAST-MODIFIED:20260223T031002Z
UID:10000932-1693045800-1693069200@wendemuseum.org
SUMMARY:Back-to-Back Artist-Led Tours: Phung Huynh on Vietnam in Transition\, 1976–Present and Bruce Yonemoto on Trương Công Tùng
DESCRIPTION:
URL:https://wendemuseum.org/event/icala/
LOCATION:The Wende Museum\, 10808 Culver Boulevard\, Culver City\, CA\, 90230\, United States
CATEGORIES:Tour
END:VEVENT
BEGIN:VEVENT
DTSTART;TZID=America/Los_Angeles:20230823T161500
DTEND;TZID=America/Los_Angeles:20230823T171500
DTSTAMP:20260425T065915
CREATED:20230721T041135Z
LAST-MODIFIED:20260225T012713Z
UID:10001284-1692807300-1692810900@wendemuseum.org
SUMMARY:The Political Mandate of the Arts with Amanda Beech
DESCRIPTION:
URL:https://wendemuseum.org/event/pma-amanda-beech/
LOCATION:The Wende Museum\, 10808 Culver Boulevard\, Culver City\, CA\, 90230\, United States
END:VEVENT
BEGIN:VEVENT
DTSTART;TZID=America/Los_Angeles:20230819T140000
DTEND;TZID=America/Los_Angeles:20230819T150000
DTSTAMP:20260425T065915
CREATED:20230721T072218Z
LAST-MODIFIED:20260225T010148Z
UID:10001232-1692453600-1692457200@wendemuseum.org
SUMMARY:Reclaiming South Vietnam's Artistic Legacy with Thuy N.D. Tran
DESCRIPTION:
URL:https://wendemuseum.org/event/thuy-tran/
LOCATION:The Wende Museum\, 10808 Culver Boulevard\, Culver City\, CA\, 90230\, United States
END:VEVENT
BEGIN:VEVENT
DTSTART;TZID=America/Los_Angeles:20230730T120000
DTEND;TZID=America/Los_Angeles:20230730T150000
DTSTAMP:20260425T065915
CREATED:20230711T011831Z
LAST-MODIFIED:20260223T231513Z
UID:10001066-1690718400-1690729200@wendemuseum.org
SUMMARY:Family Day: Space Exploration Celebration
DESCRIPTION:
URL:https://wendemuseum.org/event/family-day-space/
LOCATION:The Wende Museum\, 10808 Culver Boulevard\, Culver City\, CA\, 90230\, United States
END:VEVENT
BEGIN:VEVENT
DTSTART;TZID=America/Los_Angeles:20230726T161500
DTEND;TZID=America/Los_Angeles:20230726T171500
DTSTAMP:20260425T065915
CREATED:20230624T043113Z
LAST-MODIFIED:20260225T012908Z
UID:10001297-1690388100-1690391700@wendemuseum.org
SUMMARY:The Political Mandate of the Arts with Sonali Kolhatkar
DESCRIPTION:
URL:https://wendemuseum.org/event/the-political-mandate-of-the-arts-with-sonali-kolhatkar/
LOCATION:The Wende Museum\, 10808 Culver Boulevard\, Culver City\, CA\, 90230\, United States
END:VEVENT
BEGIN:VEVENT
DTSTART;TZID=America/Los_Angeles:20230709T140000
DTEND;TZID=America/Los_Angeles:20230709T153000
DTSTAMP:20260425T065915
CREATED:20230624T061717Z
LAST-MODIFIED:20260223T031721Z
UID:10000971-1688911200-1688916600@wendemuseum.org
SUMMARY:Collecting Memories: Artist Talk with Binh Danh
DESCRIPTION:
URL:https://wendemuseum.org/event/binhdanh/
LOCATION:The Wende Museum\, 10808 Culver Boulevard\, Culver City\, CA\, 90230\, United States
END:VEVENT
BEGIN:VEVENT
DTSTART;TZID=America/Los_Angeles:20230708T110000
DTEND;TZID=America/Los_Angeles:20230708T150000
DTSTAMP:20260425T065915
CREATED:20230615T000753Z
LAST-MODIFIED:20260223T232721Z
UID:10001144-1688814000-1688828400@wendemuseum.org
SUMMARY:ICEA Chess @ the Wende - Tournament & Free Play
DESCRIPTION:
URL:https://wendemuseum.org/event/chessjuly2023/
LOCATION:The Wende Museum\, 10808 Culver Boulevard\, Culver City\, CA\, 90230\, United States
END:VEVENT
BEGIN:VEVENT
DTSTART;TZID=America/Los_Angeles:20230705T161500
DTEND;TZID=America/Los_Angeles:20230705T171500
DTSTAMP:20260425T065915
CREATED:20230524T014206Z
LAST-MODIFIED:20260225T012711Z
UID:10001283-1688573700-1688577300@wendemuseum.org
SUMMARY:The Political Mandate of the Arts with Cauleen Smith
DESCRIPTION:
URL:https://wendemuseum.org/event/pma-cauleen-smith/
LOCATION:The Wende Museum\, 10808 Culver Boulevard\, Culver City\, CA\, 90230\, United States
END:VEVENT
BEGIN:VEVENT
DTSTART;TZID=America/Los_Angeles:20230702T140000
DTEND;TZID=America/Los_Angeles:20230702T150000
DTSTAMP:20260425T065915
CREATED:20230624T030934Z
LAST-MODIFIED:20260223T031032Z
UID:10000933-1688306400-1688310000@wendemuseum.org
SUMMARY:Atomic Terrain: Reading & Conversations
DESCRIPTION:
URL:https://wendemuseum.org/event/atomic-terrain/
LOCATION:The Wende Museum\, 10808 Culver Boulevard\, Culver City\, CA\, 90230\, United States
CATEGORIES:Conversation
END:VEVENT
BEGIN:VEVENT
DTSTART;TZID=America/Los_Angeles:20230625T120000
DTEND;TZID=America/Los_Angeles:20230625T150000
DTSTAMP:20260425T065915
CREATED:20230611T053900Z
LAST-MODIFIED:20260223T231512Z
UID:10001065-1687694400-1687705200@wendemuseum.org
SUMMARY:Family Day: Woven Pictures
DESCRIPTION:
URL:https://wendemuseum.org/event/family-day-woven-pictures/
LOCATION:The Wende Museum\, 10808 Culver Boulevard\, Culver City\, CA\, 90230\, United States
END:VEVENT
BEGIN:VEVENT
DTSTART;TZID=America/Los_Angeles:20230618T120000
DTEND;TZID=America/Los_Angeles:20230618T160000
DTSTAMP:20260425T065915
CREATED:20230405T012506Z
LAST-MODIFIED:20260218T151846Z
UID:10000804-1687089600-1687104000@wendemuseum.org
SUMMARY:Rinsing the Bones with Jenny Yurshansky
DESCRIPTION:Since 1970\, it is estimated that almost 2 million Jews left the Soviet Union in one of the largest mass emigration movements in world history. Some left because of blatant persecution; others sought to leave behind stereotypes and anti-Semitism. The Wende Museum’s Russian-Speaking Jewry Project showcases a growing archive of Refusenik samizdat (dissident publications) and related public programming engaging with the history of Soviet Jews and the Russian-speaking Jewish diaspora.\n\nSince 1970\, it is estimated that almost 2 million Jews left the Soviet Union in one of the largest mass emigration movements in world history. Some left because of blatant persecution; others sought to leave behind stereotypes and anti-Semitism. The Wende Museum’s Russian-Speaking Jewry Project showcases a growing archive of Refusenik samizdat (dissident publications) and related public programming engaging with the history of Soviet Jews and the Russian-speaking Jewish diaspora.
URL:https://wendemuseum.org/event/rinsing-the-bones-with-jenny-yurshansky/
LOCATION:The Wende Museum\, 10808 Culver Boulevard\, Culver City\, CA\, 90230\, United States
END:VEVENT
BEGIN:VEVENT
DTSTART;TZID=America/Los_Angeles:20230610T110000
DTEND;TZID=America/Los_Angeles:20230610T170000
DTSTAMP:20260425T065915
CREATED:20230412T062504Z
LAST-MODIFIED:20260223T232721Z
UID:10001145-1686394800-1686416400@wendemuseum.org
SUMMARY:ICEA Chess @ the Wende - Tournament & Free Play
DESCRIPTION:
URL:https://wendemuseum.org/event/chessjune2023/
LOCATION:The Wende Museum\, 10808 Culver Boulevard\, Culver City\, CA\, 90230\, United States
END:VEVENT
BEGIN:VEVENT
DTSTART;TZID=America/Los_Angeles:20230603T190000
DTEND;TZID=America/Los_Angeles:20230603T190000
DTSTAMP:20260425T065915
CREATED:20230510T022709Z
LAST-MODIFIED:20260223T233709Z
UID:10001193-1685818800-1685818800@wendemuseum.org
SUMMARY:Music at the Wende: MicroFest Presents Ivan Wyschnegradsky's Music for Four Quarter-Tone Pianos
DESCRIPTION:
URL:https://wendemuseum.org/event/wyschnegradsky/
LOCATION:The Wende Museum\, 10808 Culver Boulevard\, Culver City\, CA\, 90230\, United States
END:VEVENT
BEGIN:VEVENT
DTSTART;TZID=America/Los_Angeles:20230524T161500
DTEND;TZID=America/Los_Angeles:20230524T171500
DTSTAMP:20260425T065915
CREATED:20230426T021601Z
LAST-MODIFIED:20260225T012908Z
UID:10001296-1684944900-1684948500@wendemuseum.org
SUMMARY:The Political Mandate of the Arts with Steven Lavine
DESCRIPTION:
URL:https://wendemuseum.org/event/the-political-mandate-of-the-arts-with-steven-lavine/
LOCATION:The Wende Museum\, 10808 Culver Boulevard\, Culver City\, CA\, 90230\, United States
END:VEVENT
BEGIN:VEVENT
DTSTART;TZID=America/Los_Angeles:20230517T120000
DTEND;TZID=America/Los_Angeles:20230517T130000
DTSTAMP:20260425T065915
CREATED:20230426T011040Z
LAST-MODIFIED:20260225T013104Z
UID:10001311-1684324800-1684328400@wendemuseum.org
SUMMARY:Traveling with David Bowie in the Soviet Union: An Interview with Geoff MacCormack
DESCRIPTION:
URL:https://wendemuseum.org/event/maccormack/
LOCATION:The Wende Museum\, 10808 Culver Boulevard\, Culver City\, CA\, 90230\, United States
END:VEVENT
BEGIN:VEVENT
DTSTART;TZID=America/Los_Angeles:20230506T140000
DTEND;TZID=America/Los_Angeles:20230506T160000
DTSTAMP:20260425T065915
CREATED:20230415T021748Z
LAST-MODIFIED:20260225T005831Z
UID:10001227-1683381600-1683388800@wendemuseum.org
SUMMARY:OTIS College: True Stories Presentation
DESCRIPTION:
URL:https://wendemuseum.org/event/otis-college-true-stories-presentation/
LOCATION:The Wende Museum\, 10808 Culver Boulevard\, Culver City\, CA\, 90230\, United States
END:VEVENT
BEGIN:VEVENT
DTSTART;TZID=America/Los_Angeles:20230503T120000
DTEND;TZID=America/Los_Angeles:20230503T120000
DTSTAMP:20260425T065915
CREATED:20230419T013503Z
LAST-MODIFIED:20260223T232115Z
UID:10001110-1683115200-1683115200@wendemuseum.org
SUMMARY:Free: Coming of Age at the End of History - An Interview with Lea Ypi
DESCRIPTION:
URL:https://wendemuseum.org/event/free-coming-of-age-at-the-end-of-history-an-interview-with-lea-ypi/
LOCATION:The Wende Museum\, 10808 Culver Boulevard\, Culver City\, CA\, 90230\, United States
END:VEVENT
BEGIN:VEVENT
DTSTART;TZID=America/Los_Angeles:20230502T100000
DTEND;TZID=America/Los_Angeles:20230502T170000
DTSTAMP:20260425T065915
CREATED:20230408T065211Z
LAST-MODIFIED:20260225T010653Z
UID:10001252-1683021600-1683046800@wendemuseum.org
SUMMARY:SEEfest – Through the Looking-Glass: The South East European New Wave
DESCRIPTION:
URL:https://wendemuseum.org/event/seefest-through-the-looking-glass-the-south-east-european-new-wave/
LOCATION:The Wende Museum\, 10808 Culver Boulevard\, Culver City\, CA\, 90230\, United States
END:VEVENT
BEGIN:VEVENT
DTSTART;TZID=America/Los_Angeles:20230430T120000
DTEND;TZID=America/Los_Angeles:20230430T160000
DTSTAMP:20260425T065915
CREATED:20230416T030215Z
LAST-MODIFIED:20260223T231513Z
UID:10000805-1682856000-1682870400@wendemuseum.org
SUMMARY:Family Day: Soviet Jewish Samizdat Printmaking
DESCRIPTION:
URL:https://wendemuseum.org/event/family-day-soviet-jewish-samizdat-printmaking/
LOCATION:The Wende Museum\, 10808 Culver Boulevard\, Culver City\, CA\, 90230\, United States
END:VEVENT
BEGIN:VEVENT
DTSTART;TZID=America/Los_Angeles:20230426T161500
DTEND;TZID=America/Los_Angeles:20230426T171500
DTSTAMP:20260425T065915
CREATED:20230316T040036Z
LAST-MODIFIED:20260225T012917Z
UID:10001301-1682525700-1682529300@wendemuseum.org
SUMMARY:The Political Mandate of the Arts with Heidi Duckler
DESCRIPTION:
URL:https://wendemuseum.org/event/pmaduckler/
LOCATION:The Wende Museum\, 10808 Culver Boulevard\, Culver City\, CA\, 90230\, United States
END:VEVENT
BEGIN:VEVENT
DTSTART;TZID=America/Los_Angeles:20230408T140000
DTEND;TZID=America/Los_Angeles:20230408T150000
DTSTAMP:20260425T065915
CREATED:20230312T080600Z
LAST-MODIFIED:20260223T233242Z
UID:10001169-1680962400-1680966000@wendemuseum.org
SUMMARY:Les Bird: Vietnamese Refugee Photographs
DESCRIPTION:
URL:https://wendemuseum.org/event/lesbird/
LOCATION:The Wende Museum\, 10808 Culver Boulevard\, Culver City\, CA\, 90230\, United States
END:VEVENT
BEGIN:VEVENT
DTSTART;TZID=America/Los_Angeles:20230408T110000
DTEND;TZID=America/Los_Angeles:20230408T171500
DTSTAMP:20260425T065915
CREATED:20230215T071116Z
LAST-MODIFIED:20260223T232724Z
UID:10001146-1680951600-1680974100@wendemuseum.org
SUMMARY:ICEA Chess @ the Wende - Tournament & Free Play
DESCRIPTION:
URL:https://wendemuseum.org/event/iceawendeapril2023/
LOCATION:The Wende Museum\, 10808 Culver Boulevard\, Culver City\, CA\, 90230\, United States
END:VEVENT
BEGIN:VEVENT
DTSTART;TZID=America/Los_Angeles:20230408T110000
DTEND;TZID=America/Los_Angeles:20230408T160000
DTSTAMP:20260425T065915
CREATED:20230615T000846Z
LAST-MODIFIED:20260223T232723Z
UID:10001147-1680951600-1680969600@wendemuseum.org
SUMMARY:ICEA Chess @ the Wende - Tournament & Free Play
DESCRIPTION:
URL:https://wendemuseum.org/event/chessapril2023/
LOCATION:The Wende Museum\, 10808 Culver Boulevard\, Culver City\, CA\, 90230\, United States
END:VEVENT
BEGIN:VEVENT
DTSTART;TZID=America/Los_Angeles:20230401T110000
DTEND;TZID=America/Los_Angeles:20230401T170000
DTSTAMP:20260425T065915
CREATED:20230312T053238Z
LAST-MODIFIED:20260225T012352Z
UID:10001269-1680346800-1680368400@wendemuseum.org
SUMMARY:Spring Exhibitions Public Opening
DESCRIPTION:
URL:https://wendemuseum.org/event/springopening2023/
LOCATION:The Wende Museum\, 10808 Culver Boulevard\, Culver City\, CA\, 90230\, United States
END:VEVENT
END:VCALENDAR